BEGIN:VCALENDAR
VERSION:2.0
PRODID:-//wp-events-plugin.com//7.2.3.1//EN
TZID:Europe/Paris
X-WR-TIMEZONE:Europe/Paris
BEGIN:VEVENT
UID:30@coordinationacvg13.fr
DTSTART;TZID=Europe/Paris:20261201T100000
DTEND;TZID=Europe/Paris:20261201T110000
DTSTAMP:20260302T180112Z
URL:https://coordinationacvg13.fr/events/ceremonie-de-la-sainte-barbe-homm
 age-aux-marins-pompiers-et-sapeurs-pompiers-victimes-du-devoir/
SUMMARY:Cérémonie de la Sainte Barbe. Hommage aux Marins-pompiers et Sape
 urs-pompiers victimes du devoir
DESCRIPTION:
ATTACH;FMTTYPE=image/jpeg:https://i0.wp.com/coordinationacvg13.fr/wp-conte
 nt/uploads/2024/05/oratoire_marins-pompiers_2.jpg?fit=908%2C750&ssl=1
CATEGORIES:Cérémonie officielle
LOCATION:ORATOIRE DÉDIÉ AUX MARINS-POMPIERS\, Rue de la montée de l'orat
 oire\, MARSEILLE \, France
X-APPLE-STRUCTURED-LOCATION;VALUE=URI;X-ADDRESS=Rue de la montée de l'orat
 oire\, MARSEILLE \, France;X-APPLE-RADIUS=100;X-TITLE=ORATOIRE DÉDIÉ AUX
  MARINS-POMPIERS:geo:0,0
END:VEVENT
BEGIN:VTIMEZONE
TZID:Europe/Paris
X-LIC-LOCATION:Europe/Paris
BEGIN:STANDARD
DTSTART:20261025T020000
TZOFFSETFROM:+0200
TZOFFSETTO:+0100
TZNAME:CET
END:STANDARD
END:VTIMEZONE
END:VCALENDAR