BEGIN:VCALENDAR
VERSION:2.0
PRODID:-//wp-events-plugin.com//7.2.3.1//EN
TZID:Europe/Paris
X-WR-TIMEZONE:Europe/Paris
BEGIN:VEVENT
UID:25@coordinationacvg13.fr
DTSTART;TZID=Europe/Paris:20260622T000000
DTEND;TZID=Europe/Paris:20260622T000000
DTSTAMP:20260302T172608Z
URL:https://coordinationacvg13.fr/events/ceremonie-de-remise-des-casques-a
 u-bmp-de-marseille/
SUMMARY:Cérémonie de remise des casques aux Marins Pompiers
DESCRIPTION:
CATEGORIES:Cérémonie locale
LOCATION:PALAIS DU PHARO\, 58 Bd Charles Livon\, MARSEILLE\, France
X-APPLE-STRUCTURED-LOCATION;VALUE=URI;X-ADDRESS=58 Bd Charles Livon\, MARSE
 ILLE\, France;X-APPLE-RADIUS=100;X-TITLE=PALAIS DU PHARO:geo:0,0
END:VEVENT
BEGIN:VTIMEZONE
TZID:Europe/Paris
X-LIC-LOCATION:Europe/Paris
BEGIN:DAYLIGHT
DTSTART:20260329T030000
TZOFFSETFROM:+0100
TZOFFSETTO:+0200
TZNAME:CEST
END:DAYLIGHT
END:VTIMEZONE
END:VCALENDAR