BEGIN:VCALENDAR
VERSION:2.0
PRODID:-//wp-events-plugin.com//7.2.3.1//EN
TZID:Europe/Paris
X-WR-TIMEZONE:Europe/Paris
BEGIN:VEVENT
UID:15@coordinationacvg13.fr
DTSTART;TZID=Europe/Paris;VALUE=DATE:20260617
DTEND;TZID=Europe/Paris;VALUE=DATE:20260618
DTSTAMP:20260302T172204Z
URL:https://coordinationacvg13.fr/events/ceremonie-dhommage-a-jean-moulin-
 au-pantheon-a-paris-le-17-juin-jour-anniversaire-de-son-premier-acte-de-re
 sistance/
SUMMARY:cérémonie d’hommage à Jean Moulin\, au Panthéon à Paris\, le
  17 juin\, jour anniversaire de son premier acte de résistance
DESCRIPTION:
ATTACH;FMTTYPE=image/jpeg:https://i0.wp.com/coordinationacvg13.fr/wp-conte
 nt/uploads/2024/03/PANTHEON.jpg?fit=532%2C400&ssl=1
CATEGORIES:Cérémonie locale
LOCATION:LE PANTHEON\, Place du Panthéon \, PARIS\, 75005\, 
X-APPLE-STRUCTURED-LOCATION;VALUE=URI;X-ADDRESS=Place du Panthéon \, PARIS
 \, 75005\, ;X-APPLE-RADIUS=100;X-TITLE=LE PANTHEON:geo:0,0
END:VEVENT
BEGIN:VTIMEZONE
TZID:Europe/Paris
X-LIC-LOCATION:Europe/Paris
BEGIN:DAYLIGHT
DTSTART:20260329T030000
TZOFFSETFROM:+0100
TZOFFSETTO:+0200
TZNAME:CEST
END:DAYLIGHT
END:VTIMEZONE
END:VCALENDAR