BEGIN:VCALENDAR
VERSION:2.0
PRODID:-//wp-events-plugin.com//7.2.3.1//EN
TZID:Europe/Paris
X-WR-TIMEZONE:Europe/Paris
BEGIN:VEVENT
UID:26@coordinationacvg13.fr
DTSTART;TZID=Europe/Paris:20260622T083000
DTEND;TZID=Europe/Paris:20260622T093000
DTSTAMP:20260302T172806Z
URL:https://coordinationacvg13.fr/events/ceremonie-dhommage-aux-sapeurs-po
 mpiers-morts-en-service-commande-lors-de-la-lutte-contre-les-feux-de-foret
 s/
SUMMARY:Cérémonie d'hommage aux sapeurs-pompiers morts en service command
 é lors de la lutte contre les feux de forêts
DESCRIPTION:
ATTACH;FMTTYPE=image/jpeg:https://i0.wp.com/coordinationacvg13.fr/wp-conte
 nt/uploads/2024/05/Capture-decran-2024-05-10-185750.jpg?fit=738%2C793&ssl=
 1
CATEGORIES:Cérémonie locale
LOCATION:STÈLE DU SOUVENIR\, Vallon des Muets - 1900 Route de Coudoux\, LA
 NÇON DE PROVENCE \, France
X-APPLE-STRUCTURED-LOCATION;VALUE=URI;X-ADDRESS=Vallon des Muets - 1900 Rou
 te de Coudoux\, LANÇON DE PROVENCE \, France;X-APPLE-RADIUS=100;X-TITLE=S
 TÈLE DU SOUVENIR:geo:0,0
END:VEVENT
BEGIN:VTIMEZONE
TZID:Europe/Paris
X-LIC-LOCATION:Europe/Paris
BEGIN:DAYLIGHT
DTSTART:20260329T030000
TZOFFSETFROM:+0100
TZOFFSETTO:+0200
TZNAME:CEST
END:DAYLIGHT
END:VTIMEZONE
END:VCALENDAR