BEGIN:VCALENDAR
VERSION:2.0
PRODID:-//wp-events-plugin.com//7.2.3.1//EN
TZID:Europe/Paris
X-WR-TIMEZONE:Europe/Paris
BEGIN:VEVENT
UID:2@coordinationacvg13.fr
DTSTART;TZID=Europe/Paris:20260508T090000
DTEND;TZID=Europe/Paris:20260508T100000
DTSTAMP:20260302T171227Z
URL:https://coordinationacvg13.fr/events/commemoration-de-la-victoire-du-8
 -mai-1945/
SUMMARY:Commémoration de la victoire du 8 mai 1945.
DESCRIPTION:
ATTACH;FMTTYPE=image/jpeg:https://i0.wp.com/coordinationacvg13.fr/wp-conte
 nt/uploads/2023/02/ceremonie_8_mai_1945.jpg?fit=1024%2C683&ssl=1
CATEGORIES:Cérémonie officielle
LOCATION:ARC DE TRIOMPHE\, 19 Place Jules Guesde\, MARSEILLE\, 13002\, Fran
 ce
X-APPLE-STRUCTURED-LOCATION;VALUE=URI;X-ADDRESS=19 Place Jules Guesde\, MAR
 SEILLE\, 13002\, France;X-APPLE-RADIUS=100;X-TITLE=ARC DE TRIOMPHE:geo:0,0
END:VEVENT
BEGIN:VTIMEZONE
TZID:Europe/Paris
X-LIC-LOCATION:Europe/Paris
BEGIN:DAYLIGHT
DTSTART:20260329T030000
TZOFFSETFROM:+0100
TZOFFSETTO:+0200
TZNAME:CEST
END:DAYLIGHT
END:VTIMEZONE
END:VCALENDAR