BEGIN:VCALENDAR
VERSION:2.0
PRODID:-//wp-events-plugin.com//7.2.3.1//EN
TZID:Europe/Paris
X-WR-TIMEZONE:Europe/Paris
BEGIN:VEVENT
UID:23@coordinationacvg13.fr
DTSTART;TZID=Europe/Paris:20261111T090000
DTEND;TZID=Europe/Paris:20261111T100000
DTSTAMP:20260302T174701Z
URL:https://coordinationacvg13.fr/events/commemoration-de-larmistice-du-11
 -novembre-1918-et-lhommage-rendu-a-tous-les-morts-pour-la-france-2/
SUMMARY:Commémoration de l'Armistice du 11 novembre 1918 et l'hommage rend
 u à tous les morts pour la France.
DESCRIPTION:loi di 21 octobre 1922
ATTACH;FMTTYPE=image/jpeg:https://i0.wp.com/coordinationacvg13.fr/wp-conte
 nt/uploads/2023/11/2007_11_11_luyne_les_milles_11-scaled.jpg?fit=2560%2C17
 00&ssl=1
CATEGORIES:Cérémonie officielle
LOCATION:NECROPOLE MILITAIRE DE LUYNES\, D 59\, Aix-en-Provence \, France
X-APPLE-STRUCTURED-LOCATION;VALUE=URI;X-ADDRESS=D 59\, Aix-en-Provence \, F
 rance;X-APPLE-RADIUS=100;X-TITLE=NECROPOLE MILITAIRE DE LUYNES:geo:0,0
END:VEVENT
BEGIN:VTIMEZONE
TZID:Europe/Paris
X-LIC-LOCATION:Europe/Paris
BEGIN:STANDARD
DTSTART:20261025T020000
TZOFFSETFROM:+0200
TZOFFSETTO:+0100
TZNAME:CET
END:STANDARD
END:VTIMEZONE
END:VCALENDAR