BEGIN:VCALENDAR
VERSION:2.0
PRODID:-//wp-events-plugin.com//7.2.3.1//EN
TZID:Europe/Paris
X-WR-TIMEZONE:Europe/Paris
BEGIN:VEVENT
UID:6@coordinationacvg13.fr
DTSTART;TZID=Europe/Paris:20260714T173000
DTEND;TZID=Europe/Paris:20260714T200000
DTSTAMP:20260302T173430Z
URL:https://coordinationacvg13.fr/events/fete-de-la-nation/
SUMMARY:Fête de la Nation
DESCRIPTION:Loi du 6 juillet 1880
ATTACH;FMTTYPE=image/jpeg:https://i0.wp.com/coordinationacvg13.fr/wp-conte
 nt/uploads/2023/12/parachutistes-11-brigade-toulouse.webp?fit=1280%2C853&s
 sl=1
CATEGORIES:Cérémonie officielle
LOCATION:DEVANT L'HÔTEL DE VILLE\, Quai du Port\, MARSEILLE\, 13001\, 
X-APPLE-STRUCTURED-LOCATION;VALUE=URI;X-ADDRESS=Quai du Port\, MARSEILLE\, 
 13001\, ;X-APPLE-RADIUS=100;X-TITLE=DEVANT L'HÔTEL DE VILLE:geo:0,0
END:VEVENT
BEGIN:VTIMEZONE
TZID:Europe/Paris
X-LIC-LOCATION:Europe/Paris
BEGIN:DAYLIGHT
DTSTART:20260329T030000
TZOFFSETFROM:+0100
TZOFFSETTO:+0200
TZNAME:CEST
END:DAYLIGHT
END:VTIMEZONE
END:VCALENDAR