BEGIN:VCALENDAR
VERSION:2.0
PRODID:-//wp-events-plugin.com//7.2.3.1//EN
TZID:Europe/Paris
X-WR-TIMEZONE:Europe/Paris
BEGIN:VEVENT
UID:16@coordinationacvg13.fr
DTSTART;TZID=Europe/Paris;VALUE=DATE:20260510
DTEND;TZID=Europe/Paris;VALUE=DATE:20260511
DTSTAMP:20260302T171538Z
URL:https://coordinationacvg13.fr/events/fete-nationale-de-jeanne-darc-fet
 e-du-patriotisme/
SUMMARY:Fête nationale de Jeanne d’Arc\, fête du patriotisme
DESCRIPTION:
CATEGORIES:Cérémonie officielle
END:VEVENT
BEGIN:VTIMEZONE
TZID:Europe/Paris
X-LIC-LOCATION:Europe/Paris
BEGIN:DAYLIGHT
DTSTART:20260329T030000
TZOFFSETFROM:+0100
TZOFFSETTO:+0200
TZNAME:CEST
END:DAYLIGHT
END:VTIMEZONE
END:VCALENDAR