BEGIN:VCALENDAR
VERSION:2.0
PRODID:-//wp-events-plugin.com//7.2.3.1//EN
TZID:Europe/Paris
X-WR-TIMEZONE:Europe/Paris
BEGIN:VEVENT
UID:28@coordinationacvg13.fr
DTSTART;TZID=Europe/Paris:20260706T090000
DTEND;TZID=Europe/Paris:20260706T100000
DTSTAMP:20260302T173251Z
URL:https://coordinationacvg13.fr/events/journee-dhommage-a-la-police-nati
 onale/
SUMMARY:Journée d'hommage à la Police nationale
DESCRIPTION:
ATTACH;FMTTYPE=image/jpeg:https://i0.wp.com/coordinationacvg13.fr/wp-conte
 nt/uploads/2024/05/2021-06-23.jpg?fit=765%2C1020&ssl=1
CATEGORIES:Cérémonie officielle
LOCATION:HÔTEL DE POLICE\, 2 rue Antoine Becker\, MARSEILLE\, France
X-APPLE-STRUCTURED-LOCATION;VALUE=URI;X-ADDRESS=2 rue Antoine Becker\, MARS
 EILLE\, France;X-APPLE-RADIUS=100;X-TITLE=HÔTEL DE POLICE:geo:0,0
END:VEVENT
BEGIN:VTIMEZONE
TZID:Europe/Paris
X-LIC-LOCATION:Europe/Paris
BEGIN:DAYLIGHT
DTSTART:20260329T030000
TZOFFSETFROM:+0100
TZOFFSETTO:+0200
TZNAME:CEST
END:DAYLIGHT
END:VTIMEZONE
END:VCALENDAR