BEGIN:VCALENDAR
VERSION:2.0
PRODID:-//wp-events-plugin.com//7.2.3.1//EN
TZID:Europe/Paris
X-WR-TIMEZONE:Europe/Paris
BEGIN:VEVENT
UID:7@coordinationacvg13.fr
DTSTART;TZID=Europe/Paris:20260719T090000
DTEND;TZID=Europe/Paris:20260719T100000
DTSTAMP:20260302T173952Z
URL:https://coordinationacvg13.fr/events/journee-nationale-a-la-memoire-de
 s-victimes-des-crimes-racistes-et-antisemites-de-letat-francais-et-dhommag
 e-aux-justes-de-france/
SUMMARY:Journée nationale à la mémoire des victimes des crimes racistes 
 et antisémites de l'État français et d'hommage aux "Justes" de France
DESCRIPTION:LOI no 2000-644 du 10 juillet 2000
ATTACH;FMTTYPE=image/jpeg:https://i0.wp.com/coordinationacvg13.fr/wp-conte
 nt/uploads/2024/03/MEMOIRE-DE-LA-DEPORTATION.jpg?fit=600%2C485&ssl=1
CATEGORIES:Cérémonie officielle
LOCATION:MÉMORIAL DE LA DÉPORTATION\, Place du 23 janvier 1943 - Fortuné
  SPORTIELLO\, MARSEILLE\, 13001\, France
X-APPLE-STRUCTURED-LOCATION;VALUE=URI;X-ADDRESS=Place du 23 janvier 1943 - 
 Fortuné SPORTIELLO\, MARSEILLE\, 13001\, France;X-APPLE-RADIUS=100;X-TITL
 E=MÉMORIAL DE LA DÉPORTATION:geo:0,0
END:VEVENT
BEGIN:VTIMEZONE
TZID:Europe/Paris
X-LIC-LOCATION:Europe/Paris
BEGIN:DAYLIGHT
DTSTART:20260329T030000
TZOFFSETFROM:+0100
TZOFFSETTO:+0200
TZNAME:CEST
END:DAYLIGHT
END:VTIMEZONE
END:VCALENDAR