BEGIN:VCALENDAR
VERSION:2.0
PRODID:-//wp-events-plugin.com//7.2.3.1//EN
TZID:Europe/Paris
X-WR-TIMEZONE:Europe/Paris
BEGIN:VEVENT
UID:27@coordinationacvg13.fr
DTSTART;TZID=Europe/Paris:20260624T000000
DTEND;TZID=Europe/Paris:20260624T000000
DTSTAMP:20260302T173101Z
URL:https://coordinationacvg13.fr/events/journee-nationale-des-sapeurs-pom
 piers/
SUMMARY:Journée nationale des Sapeurs-pompiers
DESCRIPTION:
CATEGORIES:Cérémonie officielle
LOCATION:Lieu à définir...\, Rue\, MARSEILLE\, France
X-APPLE-STRUCTURED-LOCATION;VALUE=URI;X-ADDRESS=Rue\, MARSEILLE\, France;X-
 APPLE-RADIUS=100;X-TITLE=Lieu à définir...:geo:0,0
END:VEVENT
BEGIN:VTIMEZONE
TZID:Europe/Paris
X-LIC-LOCATION:Europe/Paris
BEGIN:DAYLIGHT
DTSTART:20260329T030000
TZOFFSETFROM:+0100
TZOFFSETTO:+0200
TZNAME:CEST
END:DAYLIGHT
END:VTIMEZONE
END:VCALENDAR