BEGIN:VCALENDAR
VERSION:2.0
PRODID:-//wp-events-plugin.com//7.2.3.1//EN
TZID:Europe/Paris
X-WR-TIMEZONE:Europe/Paris
BEGIN:VEVENT
UID:10@coordinationacvg13.fr
DTSTART;TZID=Europe/Paris:20260925T160000
DTEND;TZID=Europe/Paris:20260925T170000
DTSTAMP:20260302T174356Z
URL:https://coordinationacvg13.fr/events/journee-nationale-dhommage-aux-ha
 rkis-et-autres-membres-des-formations-suppletives/
SUMMARY:Journée nationale d'hommage aux harkis et autres membres des form
 ations supplétives.
DESCRIPTION:Décret du 31 mars 2003
ATTACH;FMTTYPE=image/jpeg:https://i0.wp.com/coordinationacvg13.fr/wp-conte
 nt/uploads/2024/01/monument-aux-morts_mas-thibert.jpg?fit=295%2C370&ssl=1
CATEGORIES:Cérémonie officielle
LOCATION:MONUMENT AUX MORTS DE MAS-THIBERT\, 30 Avenue Alain Guigue de Mas 
 Thibert\, ARLES\, France
X-APPLE-STRUCTURED-LOCATION;VALUE=URI;X-ADDRESS=30 Avenue Alain Guigue de M
 as Thibert\, ARLES\, France;X-APPLE-RADIUS=100;X-TITLE=MONUMENT AUX MORTS 
 DE MAS-THIBERT:geo:0,0
END:VEVENT
BEGIN:VTIMEZONE
TZID:Europe/Paris
X-LIC-LOCATION:Europe/Paris
BEGIN:DAYLIGHT
DTSTART:20260329T030000
TZOFFSETFROM:+0100
TZOFFSETTO:+0200
TZNAME:CEST
END:DAYLIGHT
END:VTIMEZONE
END:VCALENDAR