BEGIN:VCALENDAR
VERSION:2.0
PRODID:-//wp-events-plugin.com//7.2.3.1//EN
TZID:Europe/Paris
X-WR-TIMEZONE:Europe/Paris
BEGIN:VEVENT
UID:13@coordinationacvg13.fr
DTSTART;TZID=Europe/Paris:20261205T093000
DTEND;TZID=Europe/Paris:20261205T103000
DTSTAMP:20260302T195135Z
URL:https://coordinationacvg13.fr/events/journee-nationale-dhommage-aux-mo
 rts-de-la-guerre-dalgerie-et-des-combats-du-maroc-et-de-la-tunisie/
SUMMARY:Journée nationale d'hommage aux morts de la guerre d'Algérie et d
 es combats du Maroc et de la Tunisie.
DESCRIPTION:Décret 2003-925 de septembre 2003
ATTACH;FMTTYPE=image/jpeg:https://i0.wp.com/coordinationacvg13.fr/wp-conte
 nt/uploads/2024/03/Marseille-mur-TOE-et-AFN.jpg?fit=600%2C341&ssl=1
CATEGORIES:Cérémonie officielle
LOCATION:MONUMENT AUX MORTS POUR LA FRANCE - TOE AFN\, 380 rue St Pierre - 
 Carré militaire du Cimetière Saint Pierre\, MARSEILLLE\, 13010\, France
X-APPLE-STRUCTURED-LOCATION;VALUE=URI;X-ADDRESS=380 rue St Pierre - Carré 
 militaire du Cimetière Saint Pierre\, MARSEILLLE\, 13010\, France;X-APPLE
 -RADIUS=100;X-TITLE=MONUMENT AUX MORTS POUR LA FRANCE - TOE AFN:geo:0,0
END:VEVENT
BEGIN:VTIMEZONE
TZID:Europe/Paris
X-LIC-LOCATION:Europe/Paris
BEGIN:STANDARD
DTSTART:20261025T020000
TZOFFSETFROM:+0200
TZOFFSETTO:+0100
TZNAME:CET
END:STANDARD
END:VTIMEZONE
END:VCALENDAR