BEGIN:VCALENDAR
VERSION:2.0
PRODID:-//wp-events-plugin.com//7.2.3.1//EN
TZID:Europe/Paris
X-WR-TIMEZONE:Europe/Paris
BEGIN:VEVENT
UID:1@coordinationacvg13.fr
DTSTART;TZID=Europe/Paris;VALUE=DATE:20260426
DTEND;TZID=Europe/Paris;VALUE=DATE:20260427
DTSTAMP:20260303T171953Z
URL:https://coordinationacvg13.fr/events/journee-nationale-du-souvenir-des
 -victimes-et-des-heros-de-la-deportation/
SUMMARY:Journée nationale du souvenir des victimes et des héros de la Dé
 portation
DESCRIPTION:Loi 84-415 du 14 avril 1954
ATTACH;FMTTYPE=image/jpeg:https://i0.wp.com/coordinationacvg13.fr/wp-conte
 nt/uploads/2023/01/place-daviel.jpg?fit=2048%2C1364&ssl=1
CATEGORIES:Cérémonie officielle
LOCATION:MÉMORIAL DE LA DÉPORTATION\, Place du 23 janvier 1943 - Fortuné
  SPORTIELLO\, MARSEILLE\, 13001\, France
X-APPLE-STRUCTURED-LOCATION;VALUE=URI;X-ADDRESS=Place du 23 janvier 1943 - 
 Fortuné SPORTIELLO\, MARSEILLE\, 13001\, France;X-APPLE-RADIUS=100;X-TITL
 E=MÉMORIAL DE LA DÉPORTATION:geo:0,0
END:VEVENT
BEGIN:VTIMEZONE
TZID:Europe/Paris
X-LIC-LOCATION:Europe/Paris
BEGIN:DAYLIGHT
DTSTART:20260329T030000
TZOFFSETFROM:+0100
TZOFFSETTO:+0200
TZNAME:CEST
END:DAYLIGHT
END:VTIMEZONE
END:VCALENDAR