BEGIN:VCALENDAR
VERSION:2.0
PRODID:-//wp-events-plugin.com//7.2.3.1//EN
TZID:Europe/Paris
X-WR-TIMEZONE:Europe/Paris
BEGIN:VEVENT
UID:3@coordinationacvg13.fr
DTSTART;TZID=Europe/Paris:20260527T090000
DTEND;TZID=Europe/Paris:20260527T100000
DTSTAMP:20260302T171729Z
URL:https://coordinationacvg13.fr/events/la-journee-nationale-de-la-resist
 ance/
SUMMARY:La journée nationale de la Résistance
DESCRIPTION:Loi 2013-642 du 19 juillet 2013
ATTACH;FMTTYPE=image/jpeg:https://i0.wp.com/coordinationacvg13.fr/wp-conte
 nt/uploads/2023/05/Salon_Jean_Moulin_030524-225x300-1.jpg?fit=225%2C264&ss
 l=1
CATEGORIES:Cérémonie officielle
LOCATION:MÉMORIAL JEAN MOULIN\, D 538 en direction de SENAS\, SALON DE PRO
 VENCE \, France
X-APPLE-STRUCTURED-LOCATION;VALUE=URI;X-ADDRESS=D 538 en direction de SENAS
 \, SALON DE PROVENCE \, France;X-APPLE-RADIUS=100;X-TITLE=MÉMORIAL JEAN M
 OULIN:geo:0,0
END:VEVENT
BEGIN:VTIMEZONE
TZID:Europe/Paris
X-LIC-LOCATION:Europe/Paris
BEGIN:DAYLIGHT
DTSTART:20260329T030000
TZOFFSETFROM:+0100
TZOFFSETTO:+0200
TZNAME:CEST
END:DAYLIGHT
END:VTIMEZONE
END:VCALENDAR