BEGIN:VCALENDAR
VERSION:2.0
PRODID:-//wp-events-plugin.com//7.2.3.1//EN
TZID:Europe/Paris
X-WR-TIMEZONE:Europe/Paris
BEGIN:VEVENT
UID:4@coordinationacvg13.fr
DTSTART;TZID=Europe/Paris:20260608T090000
DTEND;TZID=Europe/Paris:20260608T100000
DTSTAMP:20260302T171936Z
URL:https://coordinationacvg13.fr/events/la-journee-nationale-dhommage-aux
 -morts-pour-la-france-en-indochine/
SUMMARY:La journée nationale d'hommage aux "morts pour la France" en Indoc
 hine.
DESCRIPTION:Décret 2005-547 du 26 mai 2005
ATTACH;FMTTYPE=image/jpeg:https://i0.wp.com/coordinationacvg13.fr/wp-conte
 nt/uploads/2024/03/Marseille-mur-TOE-et-AFN.jpg?fit=600%2C341&ssl=1
CATEGORIES:Cérémonie officielle
LOCATION:MONUMENT AUX MORTS POUR LA FRANCE - TOE AFN\, 380 rue St Pierre - 
 Carré militaire du Cimetière Saint Pierre\, MARSEILLLE\, 13010\, France
X-APPLE-STRUCTURED-LOCATION;VALUE=URI;X-ADDRESS=380 rue St Pierre - Carré 
 militaire du Cimetière Saint Pierre\, MARSEILLLE\, 13010\, France;X-APPLE
 -RADIUS=100;X-TITLE=MONUMENT AUX MORTS POUR LA FRANCE - TOE AFN:geo:0,0
END:VEVENT
BEGIN:VTIMEZONE
TZID:Europe/Paris
X-LIC-LOCATION:Europe/Paris
BEGIN:DAYLIGHT
DTSTART:20260329T030000
TZOFFSETFROM:+0100
TZOFFSETTO:+0200
TZNAME:CEST
END:DAYLIGHT
END:VTIMEZONE
END:VCALENDAR